Workbook

Sheet Síntese
B1: Checklist "Conteúdo" | I1: (ver notas de preenchimento, abaixo)
B2: Conformidade e repositório de evidências | I2: Os requisitos enumerados abaixo encontram-se hiperligados às respetivas fichas de recolha de evidências
C5: Designação do sítio web: | G5: Autoridade Nacional Segurança Rodoviária | ANSR
C6: Endereço do sítio web: | G6: https://ansr.pt/
C7: Entidade: | G7: ANSR
C8: Data da análise: | G8: 46253
B10: S | C10: N | D10: NA
E11: 1 - CLAREZA DO CONTEÚDO
B12: =IF('1.1'!$B$3="x","x"," ") -> x | C12: =IF('1.1'!$C$3="x","x"," ") | D12: =IF('1.1'!$D$3="x", "x", " ") | F12: 1.1 O sítio Web apresenta um resumo breve do seu propósito, visível sem se fazer scroll
B13: =IF('1.2'!$B$3="x","x"," ") | C13: =IF('1.2'!$C$3="x","x"," ") | D13: =IF('1.2'!$D$3="x", "x", " ") -> x | F13: 1.2 Os termos mais complexos têm uma definição agregada
B14: =IF('1.3'!$B$3="x","x"," ") -> x | C14: =IF('1.3'!$C$3="x","x"," ") | D14: =IF('1.3'!$D$3="x", "x", " ") | F14: 1.3 Cada bloco de conteúdo contém a sua data de atualização
B15: =IF('1.4'!$B$3="x","x"," ") -> x | C15: =IF('1.4'!$C$3="x","x"," ") | D15: =IF('1.4'!$D$3="x", "x", " ") | F15: 1.4 A informação sobre a entidade responsável pelo conteúdo está em todas as páginas
E16: 2 - USABILIDADE DO CONTEÚDO
B17: =IF('2.1'!$B$3="x","x"," ") -> x | C17: =IF('2.1'!$C$3="x","x"," ") | D17: =IF('2.1'!$D$3="x", "x", " ") | F17: 2.1 O tipo de letra do corpo do documento é adequado e o tamanho da letra é, no mínimo, de 12 pontos
B18: =IF('2.2'!$B$3="x","x"," ") -> x | C18: =IF('2.2'!$C$3="x","x"," ") | D18: =IF('2.2'!$D$3="x", "x", " ") | F18: 2.2 A informação secundária (datas, autores) utiliza, no mínimo, um tamanho de letra de 10 pontos
B19: =IF('2.3'!$B$3="x","x"," ") -> x | C19: =IF('2.3'!$C$3="x","x"," ") | D19: =IF('2.3'!$D$3="x", "x", " ") | F19: 2.3 Blocos e linhas de texto com largura não superior a 100 caracteres
B20: =IF('2.4'!$B$3="x","x"," ") -> x | C20: =IF('2.4'!$C$3="x","x"," ") | D20: =IF('2.4'!$D$3="x", "x", " ") | F20: 2.4 O espaçamento entre linhas não é inferior a 1.5x o tamanho da letra
E21: 3 - ESTRUTURA DA NAVEGAÇÃO
B22: =IF('3.1'!$B$3="x","x"," ") -> x | C22: =IF('3.1'!$C$3="x","x"," ") | D22: =IF('3.1'!$D$3="x", "x", " ") | F22: 3.1 Nenhum nível de navegação tem mais de 9 opções
B23: =IF('3.2'!$B$3="x","x"," ") -> x | C23: =IF('3.2'!$C$3="x","x"," ") | D23: =IF('3.2'!$D$3="x", "x", " ") | F23: 3.2 A navegação principal está sempre visível e sempre no mesmo local
B24: =IF('3.3'!$B$3="x","x"," ") -> x | C24: =IF('3.3'!$C$3="x","x"," ") | D24: =IF('3.3'!$D$3="x", "x", " ") | F24: 3.3 As hiperligações de texto não devem ser diferenciadas apenas com base na cor
E25: 4 - ESTRUTURA DA INFORMAÇÃO
B26: =IF('4.1'!$B$3="x","x"," ") -> x | C26: =IF('4.1'!$C$3="x","x"," ") | D26: =IF('4.1'!$D$3="x", "x", " ") | F26: 4.1 Os documentos longos têm um índice no topo com hiperligações internas para o mesmo
B27: =IF('4.2'!$B$3="x","x"," ") -> x | C27: =IF('4.2'!$C$3="x","x"," ") | D27: =IF('4.2'!$D$3="x", "x", " ") | F27: 4.2 O layout do sítio Web é adaptável a plataformas móveis sem necessidade de efetuar varrimento horizontal
E28: 5 - ELEMENTOS INTERATIVOS
B29: =IF('5.1'!$B$3="x","x"," ") -> x | C29: =IF('5.1'!$C$3="x","x"," ") | D29: =IF('5.1'!$D$3="x", "x", " ") | F29: 5.1 Não existem elementos interativos acionados apenas com a passagem do rato (hover)
B30: =IF('5.2'!$B$3="x","x"," ") -> x | C30: =IF('5.2'!$C$3="x","x"," ") | D30: =IF('5.2'!$D$3="x", "x", " ") | F30: 5.2 Os elementos interativos têm uma dimensão mínima de 44px CSS (44 pontos) (vertical e horizontal)
B31: =IF('5.3'!$B$3="x","x"," ") | C31: =IF('5.3'!$C$3="x","x"," ") | D31: =IF('5.3'!$D$3="x", "x", " ") -> x | F31: 5.3 Há apenas um botão de ação principal por página e o mesmo encontra-se destacado
B32: =IF('5.4'!$B$3="x","x"," ") | C32: =IF('5.4'!$C$3="x","x"," ") | D32: =IF('5.4'!$D$3="x", "x", " ") -> x | F32: 5.4 Elementos gráficos interativos têm de aparentar ser clicáveis
F36: Conformidade:
F37: Testes não aplicáveis: | H37: =COUNTIF(D12:D32,"x") -> 3
F38: Bateria de testes: | H38: 17
H39: =COUNTIF($B$12:$B$32,"x")/(17-COUNTIF($D$12:$D$32,"x")) -> 1
F41: Nota de preenchimento:
G43: Na "Folha Síntese" há que preencher 4 campos: - Designação do sítio web - Endereço do sítio web - A Entidade proprietária - A data da análise Estes 4 campos estão identificados com fundo amarelo e encontram-se nas células G1 a G8 respetivamente. Para utilizadores de leitores de ecrã, estes podem identificar as células de preenchimento pela sua cor de fundo, a qual é anunciada pelo leitor. Por exemplo, o VoiceOver lê "preenchimento cor sólida amarela". Utilize as hiperligações existentes na checklist para navegar até às folhas interiores, cada uma dedicada à recolha de evidências para cada um dos requisitos. Nas folhas interiores - da 1.1 à 5.4 - apenas é necessário assinalar com um 'X' as colunas S (Sim), N (Não), NA (Não Aplicável), respetivamente as células B3, C3 e D3. De notar que estas células são automaticamente recolhidas e copiadas para a Folha Síntese. Nas folhas interiores, por debaixo da indicação "Listagem de evidências", deve colocar as imagens e efetuar as notas que o levam a considerar que passa esse requisito (Sim), a justificar porque não passa esse requisito (Não) ou porque é que o requisito não é aplicável (NA) ao sítio web em análise.

Sheet 1.1
A1: voltar à página inicial | F1: 1 - CLAREZA DO CONTEÚDO
B2: S | C2: N | D2: NA
B3: x | F3: 1.1 O sítio Web apresenta um resumo breve do seu propósito, visível sem se fazer scroll
F4: Num primeiro vislumbre do sítio Web deve ser visível uma breve definição do seu propósito que dê a indicação ao utilizador de que sítio Web se trata e quais são as tarefas que se podem levar a efeito.
B6: Listagem de evidências
J7: Notas:
J8: A homepage e páginas principais do menu apresentam um banner principal e lead, respetivamente, que sintetizam o propósito do site e páginas integrantes do mesmo
J28: os
B30: Notas de preenchimento:
B31: - Coloque aqui imagens, printscreens ilustrativos, coloque sempre o endereço das páginas de onde retirar as imagens com exemplos ilustrativos.
B32: - As imagens e as notas não estão limitadas aos campos a amarelo.
B33: - Nas restantes folhas internas, estas instruções já não existem mas aplicam-se igualmente.
B35: ANTES DE COMEÇAR APAGUE ESTE TEXTO. APAGUE TAMBÉM A IMAGEM COLOCADA NA ZONA AMARELA.
B37: PODE INCLUSIVAMENTE RETIRAR O FUNDO AMARELO.

Sheet 1.2
A1: voltar à página inicial | F1: 1 - CLAREZA DO CONTEÚDO
B2: S | C2: N | D2: NA
D3: x | F3: 1.2 Os termos mais complexos têm uma definição agregada
F4: Quando são usados termos complexos ou técnicos que não sejam de uso corrente, estes devem ter agregada uma definição. Todos os termos definidos desta forma devem fazer parte de um glossário disponível no sítio Web.
B6: Listagem de evidências
J7: Notas:

Sheet 1.3
A1: voltar à página inicial | F1: 1 - CLAREZA DO CONTEÚDO
B2: S | C2: N | D2: NA
B3: x | F3: 1.3 Cada bloco de conteúdo contém a sua data de atualização
F4: Cada bloco de conteúdo isolado ou conjunto de blocos de conteúdo relacionado deverá ter a data da sua atualização associada, expressa num tamanho de letra 2 pontos abaixo ao do corpo do texto, com contraste mais reduzido mas nunca inferior a 4,5:1.
B6: Listagem de evidências
J7: Notas:
J8: Páginas de Notícias e Campanhas apresentam obrigatoriamente data de publicação e em caso de data de atualização também é possível adicionar por baixo da data de publicação

Sheet 1.4
A1: voltar à página inicial | F1: 1 - CLAREZA DO CONTEÚDO
B2: S | C2: N | D2: NA
B3: x | F3: 1.4 A informação sobre a entidade responsável pelo conteúdo está em todas as páginas
F4: A identificação da entidade responsável pelos conteúdos produzidos, incluindo uma hiperligação para a página de contactos deverá constar do rodapé de todas as páginas.
B6: Listagem de evidências
J7: Notas:
J8: A informação da entidade responsável pelo site está inserida no footer, assim como informação de contactos

Sheet 2.1
A1: voltar à página inicial | F1: 2 - USABILIDADE DO CONTEÚDO
B2: S | C2: N | D2: NA
B3: x | F3: 2.1 O tipo de letra do corpo do documento é adequado e o tamanho da letra é, no mínimo, de 12 pontos
F4: De forma a assegurar a boa legibilidade do texto para todos os utilizadores, o tamanho de letra do texto que compõe o corpo do documento deverá ser, no mínimo, de 12 pontos, assegurando sempre que os mesmos são escaláveis para tamanhos superiores, sempre que o utilizador considere necessário.
B6: Listagem de evidências
J7: Notas:
J8: O tamanho de letra dos textos é de 16px, que equivale a 12pt

Sheet 2.2
A1: voltar à página inicial | F1: 2 - USABILIDADE DO CONTEÚDO
B2: S | C2: N | D2: NA
B3: x | F3: 2.2 A informação secundária (datas, autores) utiliza, no mínimo, um tamanho de letra de 10 pontos
F4: A informação secundária, como os autores de textos ou de imagens, as datas de publicação ou outros tipos de meta-informação, podem usar tamanhos de letra mais pequenos, mas, no mínimo, com 10 pontos, assegurando sempre que os mesmos são escaláveis para tamanhos superiores, sempre que o utilizador considere necessário.
B6: Listagem de evidências
J7: Notas:
J8: As informações secundárias têm o texto com o tamanho de letra de: datas 16px, equivalente a 12 pts legendas 14 px, equivalente 10.5 pts

Sheet 2.3
A1: voltar à página inicial | F1: 2 - USABILIDADE DO CONTEÚDO
B2: S | C2: N | D2: NA
B3: x | F3: 2.3 Blocos e linhas de texto com largura não superior a 100 caracteres
F4: Para manter o conforto de leitura, os blocos ou linhas de texto não deverão ter mais de 100 caracteres de largura. Os 80 caracteres correspondem à dimensão que se apresenta nos estudos como a mais confortável para os utilizadores.
B6: Listagem de evidências
J7: Notas:
J8: A largura dos blocos ou linhas de texto foram desenhados para estarem sempre compeendidos numa dimensão específica. Na imagem exemplo a linha de texto com mais caracteres contém 61 caracteres, sem contar com espaços e pontuação. "No quadro das suas atribuições e no cumprimento da missão atrás referida, a ANSR" https://ansr.pt/comunicacao/noticias/avaliacao-da-seguranca-rodoviaria

Sheet 2.4
A1: voltar à página inicial | F1: 2 - USABILIDADE DO CONTEÚDO
B2: S | C2: N | D2: NA
B3: x | F3: 2.4 O espaçamento entre linhas não é inferior a 1.5x o tamanho da letra
F4: Para assegurar a leitura confortável de blocos de texto deve ser usado um espaçamento entre linhas de 1.5x o tamanho da letra.
B6: Listagem de evidências
J7: Notas:
J8: O espaçamento entre linhas é de 1.5x o tamanho da letra em blocos de texto: https://ansr.pt/comunicacao/noticias/avaliacao-da-seguranca-rodoviaria

Sheet 3.1
A1: voltar à página inicial | F1: 3 - ESTRUTURA DA NAVEGAÇÃO
B2: S | C2: N | D2: NA
B3: x | F3: 3.1 Nenhum nível de navegação tem mais de 9 opções
F4: A navegação principal deve ser equilibrada, nem com demasiadas opções de topo sem opções secundárias, nem com poucas opções de topo e muitas opções secundarias. Nenhum nível de navegação deve ter mais de 9 opções.
B6: Listagem de evidências
J7: Notas:
J8: O site da ANSR apresenta dois menus de topo, um principal e outro secundário. O submenu com maior número de opções é o de Segurança Rodoviária com 8 opções (imagem 3). Imagem 1: menus colapsados Imagem 2: menu secundário expandido Imagem 3: menu principal expandido

Sheet 3.2
A1: voltar à página inicial | F1: 3 - ESTRUTURA DA NAVEGAÇÃO
B2: S | C2: N | D2: NA
B3: x | F3: 3.2 A navegação principal está sempre visível e sempre no mesmo local
F4: As opções de primeiro nível da navegação principal estão sempre visíveis e encontram-se sempre no mesmo local em todas as páginas. A posição atual do utilizador na estrutura de navegação deve ser evidenciada.
B6: Listagem de evidências
J7: Notas:
J8: Os menus de navegação estão sempre visiveis e encontram-se sempre fixos no mesmo lugar. Para além disso todas as páginas indicam via breadcrumbs a página onde o utilizador se encontra e o caminho realizado para alcançar a página em questão (também evidênciado no url): https://ansr.pt/ https://ansr.pt/legislacao https://ansr.pt/legislacao/sinalizacao-de-transito

Sheet 3.3
A1: voltar à página inicial | F1: 3 - ESTRUTURA DA NAVEGAÇÃO
B2: S | C2: N | D2: NA
B3: x | F3: 3.3 As hiperligações de texto não devem ser diferenciadas apenas com base na cor
F4: As hiperligações de texto devem apresentar um contraste mínimo de 4,5:1 com a envolvente e uma representação visual complementar à cor - idealmente as hiperligações devem apresentar-se sublinhadas. As hiperligações em texto devem apresentar-se da mesma forma em todo o sítio Web.
B6: Listagem de evidências
J7: Notas:
J8: As hiperligações de texto encontram-se diferenciadas pela cor e sublinhado. Apresentam com um constraste de, no mínimo, 12.8:1 cheganto até 14.71:1 Imagem 1 https://ansr.pt/seguranca-rodoviaria/projetos-sama Imagem 2 https://ansr.pt/perguntas-frequentes Imagem 3 footer

Sheet 4.1
A1: voltar à página inicial | F1: 4 - ESTRUTURA DA INFORMAÇÃO
B2: S | C2: N | D2: NA
B3: x | F3: 4.1 Os documentos longos têm um índice no topo com hiperligações internas para o mesmo
F4: Os documentos com mais de três ecrãs de altura deverão ter a hierarquia de cabeçalhos espelhada num índice no topo da página com hiperligações internas para as respetivas secções e subsecções.
B6: Listagem de evidências
J7: Notas:
J8: Páginas com mais de 3 ecrãs de altura apresentam um índice que inclui redirecionamentos para o conteúdo em questão na página. https://ansr.pt/seguranca-rodoviaria/riscos-e-boas-praticas

Sheet 4.2
A1: voltar à página inicial | F1: 4 - ESTRUTURA DA INFORMAÇÃO
B2: S | C2: N | D2: NA
B3: x | F3: 4.2 O layout do sítio Web é adaptável a plataformas móveis sem necessidade de efetuar varrimento horizontal
F4: O layout do sítio Web deve ser adaptável aos tamanhos mais comuns de visualização, adaptando-se a várias larguras de ecrã sem que surjam barras de varrimento horizontais.
B6: Listagem de evidências
J7: Notas:
J8: O site é responsivo de visualização, adaptando-se a várias larguras de ecrã sem que surjam barras de varrimento horizontais.

Sheet 5.1
A1: voltar à página inicial | F1: 5 - ELEMENTOS INTERATIVOS
B2: S | C2: N | D2: NA
B3: x | F3: 5.1 Não existem elementos interativos acionados apenas com a passagem do rato (hover)
F4: Não devem existir elementos de interação, como hiperligações ou botões, que aparecem apenas quando se passa por cima com um dispositivo apontador. Este método de interação não está disponível em aparelhos com interação por toque.
B6: Listagem de evidências
J7: Notas:
J8: Não existem elementos interativos acionados apenas com a passagem do rato (hover)

Sheet 5.2
A1: voltar à página inicial | F1: 5 - ELEMENTOS INTERATIVOS
B2: S | C2: N | D2: NA
B3: x | F3: 5.2 Os elementos interativos têm uma dimensão mínima de 44px CSS (44 pontos) (vertical e horizontal)
F4: De forma a assegurar que todos os elementos interativos são facilmente acionáveis por qualquer tipo de dispositivo apontador ou toque, estes devem ter a dimensão mínima de 44px CSS de altura e de largura.
B6: Listagem de evidências
J7: Notas:
J8: Os elementos interativos do site têm sempre um mínimo de 44px de altura e largura

Sheet 5.3
A1: voltar à página inicial | F1: 5 - ELEMENTOS INTERATIVOS
B2: S | C2: N | D2: NA
D3: x | F3: 5.3 Há apenas um botão de ação principal por página e o mesmo encontra-se destacado
F4: Deve existir apenas um botão de ação principal por página e o mesmo deve apresentar-se numa cor contrastante. Todos os outros botões devem ser considerados como secundários.
B6: Listagem de evidências
J7: Notas:

Sheet 5.4
A1: voltar à página inicial | F1: 5 - ELEMENTOS INTERATIVOS
B2: S | C2: N | D2: NA
D3: x | F3: 5.4 Elementos gráficos interativos têm de aparentar ser clicáveis
F4: Os elementos gráficos clicáveis devem ser percecionáveis como tal, através da forma, da cor ou do aparente volume.
B6: Listagem de evidências
J7: Notas:
